BEGIN:VCALENDAR
PRODID:-//eluceo/ical//2.0/EN
VERSION:2.0
CALSCALE:GREGORIAN
BEGIN:VEVENT
UID:fc478f05cdfe374f0790f7cd32f826b2
DTSTAMP:20260423T034959Z
SUMMARY:[Männer Lk3] EJW Münchingen  - CVJM Kirchentellinsfurt 1b
URL:https://www.eichenkreuzliga.de/handball/game/id/12615
DTSTART:20201129T140000
DTEND:20201129T150000
LOCATION:Sporthalle Münchingen\, 70825 Korntal-Münchingen
END:VEVENT
END:VCALENDAR
