BEGIN:VCALENDAR
PRODID:-//eluceo/ical//2.0/EN
VERSION:2.0
CALSCALE:GREGORIAN
BEGIN:VEVENT
UID:0f21b879683bf77992b3f61984aac4a4
DTSTAMP:20260423T035108Z
SUMMARY:[Männer Lk3] EK Köngen 1c - CVJM Kirchentellinsfurt 1b
URL:https://www.eichenkreuzliga.de/handball/game/id/12616
DTSTART:20201121T160000
DTEND:20201121T170000
LOCATION:Burgschulhalle\, 73257 Köngen
END:VEVENT
END:VCALENDAR
