BEGIN:VCALENDAR
PRODID:-//eluceo/ical//2.0/EN
VERSION:2.0
CALSCALE:GREGORIAN
BEGIN:VEVENT
UID:bb8de80b16c034343c92bc60f71cc447
DTSTAMP:20260423T034959Z
SUMMARY:[Männer Lk3] CVJM Kirchentellinsfurt 1b - EK Köngen 1c
URL:https://www.eichenkreuzliga.de/handball/game/id/12617
DTSTART:20201018T170000
DTEND:20201018T180000
LOCATION:Sporthalle\, 72138 Kirchentellinsfurt
END:VEVENT
END:VCALENDAR
