BEGIN:VCALENDAR
PRODID:-//eluceo/ical//2.0/EN
VERSION:2.0
CALSCALE:GREGORIAN
BEGIN:VEVENT
UID:97192051d8e8bcdfd6e61e0fbbcf4f57
DTSTAMP:20260423T035108Z
SUMMARY:[Männer Lk3] CVJM Plochingen  - EJW Münchingen 
URL:https://www.eichenkreuzliga.de/handball/game/id/12621
DTSTART:20210313T183000
DTEND:20210313T193000
LOCATION:Gymnasiumsporthalle\, 73207 Plochingen
END:VEVENT
END:VCALENDAR
