BEGIN:VCALENDAR
PRODID:-//eluceo/ical//2.0/EN
VERSION:2.0
CALSCALE:GREGORIAN
BEGIN:VEVENT
UID:1b4f2513dd0f2abf33a81bb2ff250fd1
DTSTAMP:20260423T052514Z
SUMMARY:[Männer Lk3] EK Köngen 1c - CVJM Plochingen 
URL:https://www.eichenkreuzliga.de/handball/game/id/12624
DTSTART:20201212T163000
DTEND:20201212T173000
LOCATION:Burgschulhalle\, 73257 Köngen
END:VEVENT
END:VCALENDAR
