BEGIN:VCALENDAR
PRODID:-//eluceo/ical//2.0/EN
VERSION:2.0
CALSCALE:GREGORIAN
BEGIN:VEVENT
UID:1f1f6756e4eddff1354d2aad3e1829f4
DTSTAMP:20260423T033319Z
SUMMARY:[Männer Lk3] CVJM Wildberg  - EJW Münchingen 
URL:https://www.eichenkreuzliga.de/handball/game/id/12625
DTSTART:20201108T173000
DTEND:20201108T183000
LOCATION:Sporthalle Wildberg\, 72218 Wildberg
END:VEVENT
END:VCALENDAR
