BEGIN:VCALENDAR
PRODID:-//eluceo/ical//2.0/EN
VERSION:2.0
CALSCALE:GREGORIAN
BEGIN:VEVENT
UID:73c8ff5a2b12efb813b3f2d1ecec06d0
DTSTAMP:20260423T003306Z
SUMMARY:[Männer Lk3] EJW Münchingen  - CVJM Wildberg 
URL:https://www.eichenkreuzliga.de/handball/game/id/12626
DTSTART:20210117T193000
DTEND:20210117T203000
LOCATION:Sporthalle Münchingen\, 70825 Korntal-Münchingen
END:VEVENT
END:VCALENDAR
