BEGIN:VCALENDAR
PRODID:-//eluceo/ical//2.0/EN
VERSION:2.0
CALSCALE:GREGORIAN
BEGIN:VEVENT
UID:fc509cdf80c8c5cc582dcd21c3994051
DTSTAMP:20260423T034810Z
SUMMARY:[Männer Lk3] EJW Münchingen  - EK Köngen 1c
URL:https://www.eichenkreuzliga.de/handball/game/id/12629
DTSTART:20201011T190000
DTEND:20201011T200000
LOCATION:Sporthalle Münchingen\, 70825 Korntal-Münchingen
END:VEVENT
END:VCALENDAR
