BEGIN:VCALENDAR
PRODID:-//eluceo/ical//2.0/EN
VERSION:2.0
CALSCALE:GREGORIAN
BEGIN:VEVENT
UID:4bd193452b10a054c3c16dbdb51deae3
DTSTAMP:20260423T051313Z
SUMMARY:[Männer Lk3] EK Köngen 1c - EJW Münchingen 
URL:https://www.eichenkreuzliga.de/handball/game/id/12630
DTSTART:20210207T170000
DTEND:20210207T180000
LOCATION:Burgschulhalle\, 73257 Köngen
END:VEVENT
END:VCALENDAR
