BEGIN:VCALENDAR
PRODID:-//eluceo/ical//2.0/EN
VERSION:2.0
CALSCALE:GREGORIAN
BEGIN:VEVENT
UID:631ebc58a91d70043e1180f649c5b48d
DTSTAMP:20260423T051300Z
SUMMARY:[weibliche A-Jugend Runde] CVJM Hülben  - CVJM SG Mössingen/Belse
 n 
URL:https://www.eichenkreuzliga.de/handball/game/id/12713
DTSTART:20210306T160000
DTEND:20210306T170000
LOCATION:Falkensteinhalle\, 72582 Grabenstetten
END:VEVENT
END:VCALENDAR
