BEGIN:VCALENDAR
PRODID:-//eluceo/ical//2.0/EN
VERSION:2.0
CALSCALE:GREGORIAN
BEGIN:VEVENT
UID:183444e0e737f65c01001cc0274e1572
DTSTAMP:20260423T051307Z
SUMMARY:[weibliche B-Jugend Runde] CVJM Hülben  - CVJM Wildberg a. K.
URL:https://www.eichenkreuzliga.de/handball/game/id/12719
DTSTART:20210131T144500
DTEND:20210131T154500
LOCATION:Falkensteinhalle\, 72582 Grabenstetten
END:VEVENT
END:VCALENDAR
