BEGIN:VCALENDAR
PRODID:-//eluceo/ical//2.0/EN
VERSION:2.0
CALSCALE:GREGORIAN
BEGIN:VEVENT
UID:80d6b62b90223991753ac1615a633606
DTSTAMP:20260423T051306Z
SUMMARY:[weibliche A-Jugend Runde] CVJM  Walddorfhäslach  - CVJM HB Dußli
 ngen-Gomaringen 
URL:https://www.eichenkreuzliga.de/handball/game/id/12720
DTSTART:20201115T150000
DTEND:20201115T160000
LOCATION:Ballspielhalle\, 72141 Walddorfhäslach
END:VEVENT
END:VCALENDAR
