BEGIN:VCALENDAR
PRODID:-//eluceo/ical//2.0/EN
VERSION:2.0
CALSCALE:GREGORIAN
BEGIN:VEVENT
UID:0d411e59e063d4443a79665c3a9ff68d
DTSTAMP:20260423T051312Z
SUMMARY:[weibliche A-Jugend Runde] CVJM HB Dußlingen-Gomaringen  - CVJM SG
  Mössingen/Belsen 
URL:https://www.eichenkreuzliga.de/handball/game/id/12721
DTSTART:20201206T131500
DTEND:20201206T141500
LOCATION:Hönisch Sporthalle\, 72144 Dusslingen
END:VEVENT
END:VCALENDAR
