BEGIN:VCALENDAR
PRODID:-//eluceo/ical//2.0/EN
VERSION:2.0
CALSCALE:GREGORIAN
BEGIN:VEVENT
UID:df9d483f7301c74509db713a78a0acd9
DTSTAMP:20260423T033350Z
SUMMARY:[weibliche A-Jugend Runde] CVJM Fellbach  - CVJM  Walddorfhäslach 
URL:https://www.eichenkreuzliga.de/handball/game/id/12725
DTSTART:20201107T170000
DTEND:20201107T180000
LOCATION:Zeppelinhalle\, 70734 Fellbach
END:VEVENT
END:VCALENDAR
