BEGIN:VCALENDAR
PRODID:-//eluceo/ical//2.0/EN
VERSION:2.0
CALSCALE:GREGORIAN
BEGIN:VEVENT
UID:7adf7da043674faff4178875e43a6d13
DTSTAMP:20260423T051306Z
SUMMARY:[weibliche A-Jugend Runde] CVJM Fellbach  - CVJM HB Dußlingen-Goma
 ringen 
URL:https://www.eichenkreuzliga.de/handball/game/id/12727
DTSTART:20210313T150000
DTEND:20210313T160000
LOCATION:Zeppelinhalle\, 70734 Fellbach
END:VEVENT
END:VCALENDAR
