BEGIN:VCALENDAR
PRODID:-//eluceo/ical//2.0/EN
VERSION:2.0
CALSCALE:GREGORIAN
BEGIN:VEVENT
UID:3c843f1971a28f1fdf0e64a316e8c70e
DTSTAMP:20260423T051157Z
SUMMARY:[weibliche A-Jugend Runde] CVJM SG Mössingen/Belsen  - CVJM  Waldd
 orfhäslach 
URL:https://www.eichenkreuzliga.de/handball/game/id/12732
DTSTART:20210314T130000
DTEND:20210314T140000
LOCATION:Jahnhalle 2\, 72116 Mössingen
END:VEVENT
END:VCALENDAR
