BEGIN:VCALENDAR
PRODID:-//eluceo/ical//2.0/EN
VERSION:2.0
CALSCALE:GREGORIAN
BEGIN:VEVENT
UID:0bf4322701c42e5513d3a3bcd61954d6
DTSTAMP:20260423T033058Z
SUMMARY:[weibliche A-Jugend Runde] CVJM  Walddorfhäslach  - EK Bernhausen 
URL:https://www.eichenkreuzliga.de/handball/game/id/12733
DTSTART:20210124T130000
DTEND:20210124T140000
LOCATION:Ballspielhalle\, 72141 Walddorfhäslach
END:VEVENT
END:VCALENDAR
