BEGIN:VCALENDAR
PRODID:-//eluceo/ical//2.0/EN
VERSION:2.0
CALSCALE:GREGORIAN
BEGIN:VEVENT
UID:40a9ecd350d7acda8bb7f6f8a5395ebe
DTSTAMP:20260423T033227Z
SUMMARY:[weibliche A-Jugend Runde] CVJM SG Mössingen/Belsen  - CVJM Fellba
 ch 
URL:https://www.eichenkreuzliga.de/handball/game/id/12736
DTSTART:20210123T190000
DTEND:20210123T200000
LOCATION:Jahnhalle 2\, 72116 Mössingen
END:VEVENT
END:VCALENDAR
