BEGIN:VCALENDAR
PRODID:-//eluceo/ical//2.0/EN
VERSION:2.0
CALSCALE:GREGORIAN
BEGIN:VEVENT
UID:d9b3f07c6f7bf1e95efaa5683a5748ad
DTSTAMP:20260423T033216Z
SUMMARY:[weibliche A-Jugend Runde] CVJM HB Dußlingen-Gomaringen  - CVJM M
 öglingen 
URL:https://www.eichenkreuzliga.de/handball/game/id/12737
DTSTART:20210131T130000
DTEND:20210131T140000
LOCATION:Hönisch Sporthalle\, 72144 Dusslingen
END:VEVENT
END:VCALENDAR
