BEGIN:VCALENDAR
PRODID:-//eluceo/ical//2.0/EN
VERSION:2.0
CALSCALE:GREGORIAN
BEGIN:VEVENT
UID:066ed98f353ef9ca38ba4c1cb65488e0
DTSTAMP:20260423T033319Z
SUMMARY:[weibliche A-Jugend Runde] CVJM Fellbach  - CVJM Möglingen 
URL:https://www.eichenkreuzliga.de/handball/game/id/12739
DTSTART:20201206T150000
DTEND:20201206T160000
LOCATION:Zeppelinhalle\, 70734 Fellbach
END:VEVENT
END:VCALENDAR
