BEGIN:VCALENDAR
PRODID:-//eluceo/ical//2.0/EN
VERSION:2.0
CALSCALE:GREGORIAN
BEGIN:VEVENT
UID:e6a014a8d2dc50969b26abb677c2a9c0
DTSTAMP:20260423T033215Z
SUMMARY:[weibliche A-Jugend Runde] CVJM Möglingen  - CVJM SG Mössingen/Be
 lsen 
URL:https://www.eichenkreuzliga.de/handball/game/id/12741
DTSTART:20201017T120000
DTEND:20201017T130000
LOCATION:Stadionhalle\, 71696 Möglingen
END:VEVENT
END:VCALENDAR
