BEGIN:VCALENDAR
PRODID:-//eluceo/ical//2.0/EN
VERSION:2.0
CALSCALE:GREGORIAN
BEGIN:VEVENT
UID:e4f042e002df8101ad0c4d73eb983a4f
DTSTAMP:20260423T033215Z
SUMMARY:[weibliche A-Jugend Runde] EK Bernhausen  - CVJM HB Dußlingen-Goma
 ringen 
URL:https://www.eichenkreuzliga.de/handball/game/id/12744
DTSTART:20210320T110000
DTEND:20210320T120000
LOCATION:Elisabeth-Selbert-Gymnasium Halle\, 70794 Bernhausen
END:VEVENT
END:VCALENDAR
