BEGIN:VCALENDAR
PRODID:-//eluceo/ical//2.0/EN
VERSION:2.0
CALSCALE:GREGORIAN
BEGIN:VEVENT
UID:9bd5f7e32319690676453142485b58a4
DTSTAMP:20260423T051116Z
SUMMARY:[weibliche A-Jugend Runde] CVJM  Walddorfhäslach  - CVJM Möglinge
 n 
URL:https://www.eichenkreuzliga.de/handball/game/id/12745
DTSTART:20210321T160000
DTEND:20210321T170000
LOCATION:Ballspielhalle\, 72141 Walddorfhäslach
END:VEVENT
END:VCALENDAR
