BEGIN:VCALENDAR
PRODID:-//eluceo/ical//2.0/EN
VERSION:2.0
CALSCALE:GREGORIAN
BEGIN:VEVENT
UID:0e0133a35971833949355925070201d6
DTSTAMP:20260423T064542Z
SUMMARY:[weibliche B-Jugend Runde] CVJM Wildberg a. K. - CVJM HB Dußlingen
 -Gomaringen 
URL:https://www.eichenkreuzliga.de/handball/game/id/12776
DTSTART:20201213T150000
DTEND:20201213T160000
LOCATION:Sporthalle Wildberg\, 72218 Wildberg
END:VEVENT
END:VCALENDAR
