BEGIN:VCALENDAR
PRODID:-//eluceo/ical//2.0/EN
VERSION:2.0
CALSCALE:GREGORIAN
BEGIN:VEVENT
UID:23f6b4493743100ba64bd78423e3545d
DTSTAMP:20260423T064641Z
SUMMARY:[weibliche B-Jugend Runde] CVJM Hagelloch  - CVJM SG Mössingen/Bel
 sen 
URL:https://www.eichenkreuzliga.de/handball/game/id/12770
DTSTART:20210320T123000
DTEND:20210320T133000
LOCATION:Sporthalle Waldhäuser-Ost\, 72076 Tübingen
END:VEVENT
END:VCALENDAR
