BEGIN:VCALENDAR
PRODID:-//eluceo/ical//2.0/EN
VERSION:2.0
CALSCALE:GREGORIAN
BEGIN:VEVENT
UID:dbf6141b858d1f4c75cb261dfbc210f9
DTSTAMP:20260423T051157Z
SUMMARY:[weibliche B-Jugend Runde] CVJM HB Dußlingen-Gomaringen  - CVJM Ha
 gelloch 
URL:https://www.eichenkreuzliga.de/handball/game/id/12771
DTSTART:20210131T150000
DTEND:20210131T160000
LOCATION:Hönisch Sporthalle\, 72144 Dusslingen
END:VEVENT
END:VCALENDAR
