BEGIN:VCALENDAR
PRODID:-//eluceo/ical//2.0/EN
VERSION:2.0
CALSCALE:GREGORIAN
BEGIN:VEVENT
UID:2e02dff71607457de132dc6da45e3be8
DTSTAMP:20260423T080841Z
SUMMARY:[weibliche B-Jugend Runde] CVJM Wildberg a. K. - CVJM Hagelloch 
URL:https://www.eichenkreuzliga.de/handball/game/id/12772
DTSTART:20210117T140000
DTEND:20210117T150000
LOCATION:Sporthalle Wildberg\, 72218 Wildberg
END:VEVENT
END:VCALENDAR
