BEGIN:VCALENDAR
PRODID:-//eluceo/ical//2.0/EN
VERSION:2.0
CALSCALE:GREGORIAN
BEGIN:VEVENT
UID:b2c8ef86a661c30575d300956aa4e2a8
DTSTAMP:20260423T034457Z
SUMMARY:[männliche C-Jugend Runde] CVJM Kirchentellinsfurt  - CVJM Untert
 ürkheim 
URL:https://www.eichenkreuzliga.de/handball/game/id/12781
DTSTART:20201018T151500
DTEND:20201018T161500
LOCATION:Sporthalle\, 72138 Kirchentellinsfurt
END:VEVENT
END:VCALENDAR
