BEGIN:VCALENDAR
PRODID:-//eluceo/ical//2.0/EN
VERSION:2.0
CALSCALE:GREGORIAN
BEGIN:VEVENT
UID:4fc901e35a50c6f4ed3ab50e74394671
DTSTAMP:20260423T034724Z
SUMMARY:[männliche C-Jugend Runde] EK Höfingen  - EJW Münchingen 
URL:https://www.eichenkreuzliga.de/handball/game/id/12783
DTSTART:20201017T130000
DTEND:20201017T140000
LOCATION:Strohgäuhalle\, 71229 Höfingen
END:VEVENT
END:VCALENDAR
