BEGIN:VCALENDAR
PRODID:-//eluceo/ical//2.0/EN
VERSION:2.0
CALSCALE:GREGORIAN
BEGIN:VEVENT
UID:09ad79c6e19b4a1197e1a1bac1dc8188
DTSTAMP:20260423T051313Z
SUMMARY:[männliche C-Jugend Runde] CVJM Enzweihingen  - EK Bernhausen 
URL:https://www.eichenkreuzliga.de/handball/game/id/12785
DTSTART:20201018T140000
DTEND:20201018T150000
LOCATION:Schulsporthalle\, 71665 Enzweihingen
END:VEVENT
END:VCALENDAR
