BEGIN:VCALENDAR
PRODID:-//eluceo/ical//2.0/EN
VERSION:2.0
CALSCALE:GREGORIAN
BEGIN:VEVENT
UID:ab44b63771be78bfcc12d6a3c17a1cc8
DTSTAMP:20260423T034539Z
SUMMARY:[männliche C-Jugend Runde] CVJM Kusterdingen e.V.  - EK Bernhausen
  
URL:https://www.eichenkreuzliga.de/handball/game/id/12787
DTSTART:20201107T140000
DTEND:20201107T150000
LOCATION:Härtensporthalle\, 72127 Kusterdingen
END:VEVENT
END:VCALENDAR
