BEGIN:VCALENDAR
PRODID:-//eluceo/ical//2.0/EN
VERSION:2.0
CALSCALE:GREGORIAN
BEGIN:VEVENT
UID:d45456fefac497069c3e615d4f23d3a9
DTSTAMP:20260423T051313Z
SUMMARY:[männliche C-Jugend Runde] CVJM HB Dußlingen-Gomaringen 1 - CVJM 
 Hagelloch 
URL:https://www.eichenkreuzliga.de/handball/game/id/12788
DTSTART:20201018T000000
DTEND:20201018T010000
LOCATION:Hönisch Sporthalle\, 72144 Dusslingen
END:VEVENT
END:VCALENDAR
