BEGIN:VCALENDAR
PRODID:-//eluceo/ical//2.0/EN
VERSION:2.0
CALSCALE:GREGORIAN
BEGIN:VEVENT
UID:44f69f9d0588cdcef9fb804938f5df0c
DTSTAMP:20260423T033221Z
SUMMARY:[männliche C-Jugend Runde] EK Köngen  - EJW Münchingen 
URL:https://www.eichenkreuzliga.de/handball/game/id/12790
DTSTART:20201107T120000
DTEND:20201107T130000
LOCATION:Burgschulhalle\, 73257 Köngen
END:VEVENT
END:VCALENDAR
