BEGIN:VCALENDAR
PRODID:-//eluceo/ical//2.0/EN
VERSION:2.0
CALSCALE:GREGORIAN
BEGIN:VEVENT
UID:5a25e441469e03eb603f430d9d19f22c
DTSTAMP:20260423T034914Z
SUMMARY:[männliche C-Jugend Runde] CVJM Untertürkheim  - CVJM HB Dußling
 en-Gomaringen 1
URL:https://www.eichenkreuzliga.de/handball/game/id/12791
DTSTART:20201107T140000
DTEND:20201107T150000
LOCATION:Lindenschul-Sporthalle Untertürkheim\, 70327 Untertürkheim
END:VEVENT
END:VCALENDAR
