BEGIN:VCALENDAR
PRODID:-//eluceo/ical//2.0/EN
VERSION:2.0
CALSCALE:GREGORIAN
BEGIN:VEVENT
UID:f63ef7796c9663c1ee25f7bcb5d6fc16
DTSTAMP:20260423T035108Z
SUMMARY:[männliche C-Jugend Runde] CVJM Kusterdingen e.V.  - EK Höfingen 
URL:https://www.eichenkreuzliga.de/handball/game/id/12793
DTSTART:20201115T140000
DTEND:20201115T150000
LOCATION:Härtensporthalle\, 72127 Kusterdingen
END:VEVENT
END:VCALENDAR
