BEGIN:VCALENDAR
PRODID:-//eluceo/ical//2.0/EN
VERSION:2.0
CALSCALE:GREGORIAN
BEGIN:VEVENT
UID:e3f29ab1dfd668e6f7807817ddeb6cad
DTSTAMP:20260423T051029Z
SUMMARY:[männliche C-Jugend Runde] EK Höfingen  - CVJM Fellbach 
URL:https://www.eichenkreuzliga.de/handball/game/id/12797
DTSTART:20201107T183000
DTEND:20201107T193000
LOCATION:Strohgäuhalle\, 71229 Höfingen
END:VEVENT
END:VCALENDAR
