BEGIN:VCALENDAR
PRODID:-//eluceo/ical//2.0/EN
VERSION:2.0
CALSCALE:GREGORIAN
BEGIN:VEVENT
UID:df7691865d826e4c140ccfb2101d7c70
DTSTAMP:20260423T034620Z
SUMMARY:[männliche C-Jugend Runde] CVJM Fellbach  - EK Köngen 
URL:https://www.eichenkreuzliga.de/handball/game/id/12798
DTSTART:20201121T130000
DTEND:20201121T140000
LOCATION:Zeppelinhalle\, 70734 Fellbach
END:VEVENT
END:VCALENDAR
