BEGIN:VCALENDAR
PRODID:-//eluceo/ical//2.0/EN
VERSION:2.0
CALSCALE:GREGORIAN
BEGIN:VEVENT
UID:a7ca7929476728c20f96f5d801f40d81
DTSTAMP:20260423T034810Z
SUMMARY:[männliche C-Jugend Runde] CVJM Untertürkheim  - EJW Münchingen 
URL:https://www.eichenkreuzliga.de/handball/game/id/12800
DTSTART:20201121T140000
DTEND:20201121T150000
LOCATION:Lindenschul-Sporthalle Untertürkheim\, 70327 Untertürkheim
END:VEVENT
END:VCALENDAR
