BEGIN:VCALENDAR
PRODID:-//eluceo/ical//2.0/EN
VERSION:2.0
CALSCALE:GREGORIAN
BEGIN:VEVENT
UID:603566cd0ce2aef0ae88d7d1149fea18
DTSTAMP:20260423T050932Z
SUMMARY:[männliche C-Jugend Runde] EK Bernhausen  - CVJM Kirchentellinsfur
 t 
URL:https://www.eichenkreuzliga.de/handball/game/id/12802
DTSTART:20201212T123000
DTEND:20201212T133000
LOCATION:Elisabeth-Selbert-Gymnasium Halle\, 70794 Bernhausen
END:VEVENT
END:VCALENDAR
