BEGIN:VCALENDAR
PRODID:-//eluceo/ical//2.0/EN
VERSION:2.0
CALSCALE:GREGORIAN
BEGIN:VEVENT
UID:015699edf845f9796dc54f041accabfe
DTSTAMP:20260423T034724Z
SUMMARY:[männliche C-Jugend Runde] CVJM Kusterdingen e.V.  - CVJM HB Dußl
 ingen-Gomaringen 1
URL:https://www.eichenkreuzliga.de/handball/game/id/12807
DTSTART:20201121T140000
DTEND:20201121T150000
LOCATION:Härtensporthalle\, 72127 Kusterdingen
END:VEVENT
END:VCALENDAR
