BEGIN:VCALENDAR
PRODID:-//eluceo/ical//2.0/EN
VERSION:2.0
CALSCALE:GREGORIAN
BEGIN:VEVENT
UID:65c8e6254ae840e95fbe270b160d8e6c
DTSTAMP:20260423T051116Z
SUMMARY:[männliche C-Jugend Runde] CVJM Hagelloch  - CVJM  Walddorfhäslac
 h 
URL:https://www.eichenkreuzliga.de/handball/game/id/12808
DTSTART:20201129T123000
DTEND:20201129T133000
LOCATION:Kreissporthalle Tübingen\, 72072 Tübingen
END:VEVENT
END:VCALENDAR
