BEGIN:VCALENDAR
PRODID:-//eluceo/ical//2.0/EN
VERSION:2.0
CALSCALE:GREGORIAN
BEGIN:VEVENT
UID:62a59d3076b294c1576453fcfdc85315
DTSTAMP:20260423T034724Z
SUMMARY:[männliche C-Jugend Runde] CVJM Fellbach  - CVJM Untertürkheim 
URL:https://www.eichenkreuzliga.de/handball/game/id/12810
DTSTART:20201206T130000
DTEND:20201206T140000
LOCATION:Zeppelinhalle\, 70734 Fellbach
END:VEVENT
END:VCALENDAR
