BEGIN:VCALENDAR
PRODID:-//eluceo/ical//2.0/EN
VERSION:2.0
CALSCALE:GREGORIAN
BEGIN:VEVENT
UID:87c1875b7ec0bb8df85f96a2c70b27de
DTSTAMP:20260423T034810Z
SUMMARY:[männliche C-Jugend Runde] EK Köngen  - CVJM HB Dußlingen-Gomari
 ngen 1
URL:https://www.eichenkreuzliga.de/handball/game/id/12812
DTSTART:20201212T120000
DTEND:20201212T130000
LOCATION:Burgschulhalle\, 73257 Köngen
END:VEVENT
END:VCALENDAR
