BEGIN:VCALENDAR
PRODID:-//eluceo/ical//2.0/EN
VERSION:2.0
CALSCALE:GREGORIAN
BEGIN:VEVENT
UID:e3767066a26526cf9df1ab1ff96db95d
DTSTAMP:20260423T034822Z
SUMMARY:[männliche C-Jugend Runde] CVJM Kirchentellinsfurt  - CVJM Enzweih
 ingen 
URL:https://www.eichenkreuzliga.de/handball/game/id/12815
DTSTART:20201129T151500
DTEND:20201129T161500
LOCATION:Sporthalle\, 72138 Kirchentellinsfurt
END:VEVENT
END:VCALENDAR
