BEGIN:VCALENDAR
PRODID:-//eluceo/ical//2.0/EN
VERSION:2.0
CALSCALE:GREGORIAN
BEGIN:VEVENT
UID:3afafee70473972b6e8b4a5ff117c604
DTSTAMP:20260423T034724Z
SUMMARY:[männliche C-Jugend Runde] CVJM Hagelloch  - CVJM Untertürkheim 
URL:https://www.eichenkreuzliga.de/handball/game/id/12818
DTSTART:20201114T141500
DTEND:20201114T151500
LOCATION:Kreissporthalle Tübingen\, 72072 Tübingen
END:VEVENT
END:VCALENDAR
