BEGIN:VCALENDAR
PRODID:-//eluceo/ical//2.0/EN
VERSION:2.0
CALSCALE:GREGORIAN
BEGIN:VEVENT
UID:fa62073f34feccf7aabb175007dfbe9c
DTSTAMP:20260423T051157Z
SUMMARY:[männliche C-Jugend Runde] EJW Münchingen  - CVJM Enzweihingen 
URL:https://www.eichenkreuzliga.de/handball/game/id/12820
DTSTART:20201213T170000
DTEND:20201213T180000
LOCATION:Sporthalle Münchingen\, 70825 Korntal-Münchingen
END:VEVENT
END:VCALENDAR
