BEGIN:VCALENDAR
PRODID:-//eluceo/ical//2.0/EN
VERSION:2.0
CALSCALE:GREGORIAN
BEGIN:VEVENT
UID:a6b09ae53346653dc464fcfb3e25e875
DTSTAMP:20260423T015001Z
SUMMARY:[männliche C-Jugend Runde] CVJM Fellbach  - CVJM Hagelloch 
URL:https://www.eichenkreuzliga.de/handball/game/id/12821
DTSTART:20210131T163000
DTEND:20210131T173000
LOCATION:Zeppelinhalle\, 70734 Fellbach
END:VEVENT
END:VCALENDAR
