BEGIN:VCALENDAR
PRODID:-//eluceo/ical//2.0/EN
VERSION:2.0
CALSCALE:GREGORIAN
BEGIN:VEVENT
UID:d914d187701dda5c004c3e327e932ad5
DTSTAMP:20260423T051157Z
SUMMARY:[männliche C-Jugend Runde] CVJM Fellbach  - EK Bernhausen 
URL:https://www.eichenkreuzliga.de/handball/game/id/12823
DTSTART:20210313T130000
DTEND:20210313T140000
LOCATION:Zeppelinhalle\, 70734 Fellbach
END:VEVENT
END:VCALENDAR
