BEGIN:VCALENDAR
PRODID:-//eluceo/ical//2.0/EN
VERSION:2.0
CALSCALE:GREGORIAN
BEGIN:VEVENT
UID:0859c20a41974281b01907bd02e45904
DTSTAMP:20260423T003255Z
SUMMARY:[männliche C-Jugend Runde] CVJM Fellbach  - CVJM Kusterdingen e.V.
  
URL:https://www.eichenkreuzliga.de/handball/game/id/12825
DTSTART:20210418T163000
DTEND:20210418T173000
LOCATION:Zeppelinhalle\, 70734 Fellbach
END:VEVENT
END:VCALENDAR
