BEGIN:VCALENDAR
PRODID:-//eluceo/ical//2.0/EN
VERSION:2.0
CALSCALE:GREGORIAN
BEGIN:VEVENT
UID:e0ad0aff98374555181cf82e74f0c221
DTSTAMP:20260423T034822Z
SUMMARY:[männliche C-Jugend Runde] CVJM Kirchentellinsfurt  - CVJM Fellbac
 h 
URL:https://www.eichenkreuzliga.de/handball/game/id/12827
DTSTART:20210207T161000
DTEND:20210207T171000
LOCATION:Sporthalle\, 72138 Kirchentellinsfurt
END:VEVENT
END:VCALENDAR
